BEGIN:VCALENDAR
VERSION:2.0
PRODID:-//Preserve West Cobb - ECPv6.15.20//NONSGML v1.0//EN
CALSCALE:GREGORIAN
METHOD:PUBLISH
X-WR-CALNAME:Preserve West Cobb
X-ORIGINAL-URL:https://preservewestcobb.com
X-WR-CALDESC:Events for Preserve West Cobb
REFRESH-INTERVAL;VALUE=DURATION:PT1H
X-Robots-Tag:noindex
X-PUBLISHED-TTL:PT1H
BEGIN:VTIMEZONE
TZID:America/New_York
BEGIN:DAYLIGHT
TZOFFSETFROM:-0500
TZOFFSETTO:-0400
TZNAME:EDT
DTSTART:20230312T070000
END:DAYLIGHT
BEGIN:STANDARD
TZOFFSETFROM:-0400
TZOFFSETTO:-0500
TZNAME:EST
DTSTART:20231105T060000
END:STANDARD
BEGIN:DAYLIGHT
TZOFFSETFROM:-0500
TZOFFSETTO:-0400
TZNAME:EDT
DTSTART:20240310T070000
END:DAYLIGHT
BEGIN:STANDARD
TZOFFSETFROM:-0400
TZOFFSETTO:-0500
TZNAME:EST
DTSTART:20241103T060000
END:STANDARD
BEGIN:DAYLIGHT
TZOFFSETFROM:-0500
TZOFFSETTO:-0400
TZNAME:EDT
DTSTART:20250309T070000
END:DAYLIGHT
BEGIN:STANDARD
TZOFFSETFROM:-0400
TZOFFSETTO:-0500
TZNAME:EST
DTSTART:20251102T060000
END:STANDARD
END:VTIMEZONE
BEGIN:VEVENT
DTSTART;TZID=America/New_York:20240716T183000
DTEND;TZID=America/New_York:20240716T193000
DTSTAMP:20260419T235802
CREATED:20240507T181740Z
LAST-MODIFIED:20240507T181740Z
UID:1059-1721154600-1721158200@preservewestcobb.com
SUMMARY:July Preserve West Cobb Meeting
DESCRIPTION:Please join us at the WEST Cobb Library\, Tuesday July 16th\, at 6:30 pm. This meeting is to plan for the 2025 Lost Mountain campaign and advance the mission of preserving the West Cobb lifestyle. Please bring a friend!
URL:https://preservewestcobb.com/event/july-preserve-west-cobb-meeting/
LOCATION:West Cobb Regional Library\, 1750 Dennis Kemp Lane\, Acworth\, GA\, 30101\, United States
CATEGORIES:Meeting
ATTACH;FMTTYPE=image/webp:https://preservewestcobb.com/wp-content/uploads/2024/05/july-PWC-meeting-ai.webp
END:VEVENT
END:VCALENDAR